BEGIN:VCALENDAR
VERSION:2.0
PRODID:-//eventon.com NONSGML v1.0//EN
CALSCALE:GREGORIAN
METHOD:PUBLISH
BEGIN:VEVENT
UID:69eb163b8dd00
DTSTAMP:20260424T070531Z
DTSTART:20240624
DTEND:20240625
LOCATION:
SUMMARY:Conseil de la Métropole de Lyon
DESCRIPTION:Conseil de la Métropole de Lyon\nhttps://www.cftcmetropoledely
 on.fr/events/conseil-de-la-metropole-de-lyon/
URL:https://www.cftcmetropoledelyon.fr/events/conseil-de-la-metropole-de-lyon/
END:VEVENT
END:VCALENDAR