BEGIN:VCALENDAR
VERSION:2.0
PRODID:-//eventon.com NONSGML v1.0//EN
CALSCALE:GREGORIAN
METHOD:PUBLISH
BEGIN:VEVENT
UID:69eb15b7a282c
DTSTAMP:20260424T070319Z
DTSTART:20240523T140000Z
DTEND:20240523T153000Z
LOCATION:
SUMMARY:Visite de site - Subdivision VTPCS (Voirie Territoriale de Proximité Centre Sud)
DESCRIPTION:Visite de site - Subdivision VTPCS (Voirie Territoriale de Prox
 imité Centre Sud)\nhttps://www.cftcmetropoledelyon.fr/events/visite-de-sit
 e-subdivision-vtpcs-voirie-territoriale-de-proximite-centre-sud/
URL:https://www.cftcmetropoledelyon.fr/events/visite-de-site-subdivision-vtpcs-voirie-territoriale-de-proximite-centre-sud/
END:VEVENT
END:VCALENDAR