BEGIN:VCALENDAR
VERSION:2.0
PRODID:-//eventon.com NONSGML v1.0//EN
CALSCALE:GREGORIAN
METHOD:PUBLISH
BEGIN:VEVENT
UID:69eb1675e5a78
DTSTAMP:20260424T070629Z
DTSTART:20250418
DTEND:20250419
LOCATION:
SUMMARY:Conseil Syndical
DESCRIPTION:Conseil Syndical\nhttps://www.cftcmetropoledelyon.fr/events/con
 seil-syndical-6/
URL:https://www.cftcmetropoledelyon.fr/events/conseil-syndical-6/
END:VEVENT
END:VCALENDAR