BEGIN:VCALENDAR
VERSION:2.0
PRODID:-//eventon.com NONSGML v1.0//EN
CALSCALE:GREGORIAN
METHOD:PUBLISH
BEGIN:VEVENT
UID:69eb1675e64d5
DTSTAMP:20260424T070629Z
DTSTART:20250520T140000Z
DTEND:20250520T153000Z
LOCATION:
SUMMARY:Visite usine Lyon Sud
DESCRIPTION:Visite usine Lyon Sud\nhttps://www.cftcmetropoledelyon.fr/event
 s/visite-usine-lyon-sud/
URL:https://www.cftcmetropoledelyon.fr/events/visite-usine-lyon-sud/
END:VEVENT
END:VCALENDAR