BEGIN:VCALENDAR
VERSION:2.0
PRODID:-//eventon.com NONSGML v1.0//EN
CALSCALE:GREGORIAN
METHOD:PUBLISH
BEGIN:VEVENT
UID:69eb163179672
DTSTAMP:20260424T070521Z
DTSTART:20250701
DTEND:20250702
LOCATION:
SUMMARY:Formation Eau /Voirie G1
DESCRIPTION:Formation Eau /Voirie G1\nhttps://www.cftcmetropoledelyon.fr/ev
 ents/formation-eau-voirie-g1/var/event_access
URL:https://www.cftcmetropoledelyon.fr/events/formation-eau-voirie-g1/var/event_access
END:VEVENT
END:VCALENDAR