BEGIN:VCALENDAR
VERSION:2.0
PRODID:-//eventon.com NONSGML v1.0//EN
CALSCALE:GREGORIAN
METHOD:PUBLISH
BEGIN:VEVENT
UID:69eb1617f32a7
DTSTAMP:20260424T070455Z
DTSTART:20250703T155100Z
DTEND:20250703T155100Z
LOCATION:
SUMMARY:Formation Groupe DSHE
DESCRIPTION:Formation Groupe DSHE\nhttps://www.cftcmetropoledelyon.fr/event
 s/formation-groupe-dshe/
URL:https://www.cftcmetropoledelyon.fr/events/formation-groupe-dshe/
END:VEVENT
END:VCALENDAR