BEGIN:VCALENDAR
VERSION:2.0
PRODID:-//eventon.com NONSGML v1.0//EN
CALSCALE:GREGORIAN
METHOD:PUBLISH
BEGIN:VEVENT
UID:69eb1626b4aca
DTSTAMP:20260424T070510Z
DTSTART:20250904T133000Z
DTEND:20250904T150000Z
LOCATION:
SUMMARY:FS/CST - Groupe de travail EPI
DESCRIPTION:FS/CST - Groupe de travail EPI\nhttps://www.cftcmetropoledelyon
 .fr/events/groupe-de-travail-epi/
URL:https://www.cftcmetropoledelyon.fr/events/groupe-de-travail-epi/
END:VEVENT
END:VCALENDAR