BEGIN:VCALENDAR
VERSION:2.0
PRODID:-//eventon.com NONSGML v1.0//EN
CALSCALE:GREGORIAN
METHOD:PUBLISH
BEGIN:VEVENT
UID:69eb15df493ee
DTSTAMP:20260424T070359Z
DTSTART:20250904T090000Z
DTEND:20250904T113000Z
LOCATION:
SUMMARY:FS/CST - Visite 2ème étage QUATUOR
DESCRIPTION:FS/CST - Visite 2ème étage QUATUOR\nhttps://www.cftcmetropole
 delyon.fr/events/fs-cst-visite-2eme-etage-quatuor/
URL:https://www.cftcmetropoledelyon.fr/events/fs-cst-visite-2eme-etage-quatuor/
END:VEVENT
END:VCALENDAR