BEGIN:VCALENDAR
VERSION:2.0
PRODID:-//eventon.com NONSGML v1.0//EN
CALSCALE:GREGORIAN
METHOD:PUBLISH
BEGIN:VEVENT
UID:69eb15dd01b0f
DTSTAMP:20260424T070357Z
DTSTART:20250911T133000Z
DTEND:20250911T180000Z
LOCATION:
SUMMARY:CAP - Commission administrative paritaire
DESCRIPTION:CAP - Commission administrative paritaire\nhttps://www.cftcmetr
 opoledelyon.fr/events/cap-c-commission-administrative-paritaire/
URL:https://www.cftcmetropoledelyon.fr/events/cap-c-commission-administrative-paritaire/
END:VEVENT
END:VCALENDAR