BEGIN:VCALENDAR
VERSION:2.0
PRODID:-//eventon.com NONSGML v1.0//EN
CALSCALE:GREGORIAN
METHOD:PUBLISH
BEGIN:VEVENT
UID:69eb162db0581
DTSTAMP:20260424T070517Z
DTSTART:20250909T140000Z
DTEND:20250909T153000Z
LOCATION:
SUMMARY:FS/CST Visite de site - Nouveaux locaux Peillon
DESCRIPTION:FS/CST Visite de site - Nouveaux locaux Peillon\nhttps://www.cf
 tcmetropoledelyon.fr/events/fs-cst-visite-de-site-nouveaux-locaux-peillon/
URL:https://www.cftcmetropoledelyon.fr/events/fs-cst-visite-de-site-nouveaux-locaux-peillon/
END:VEVENT
END:VCALENDAR