BEGIN:VCALENDAR
VERSION:2.0
PRODID:-//eventon.com NONSGML v1.0//EN
CALSCALE:GREGORIAN
METHOD:PUBLISH
BEGIN:VEVENT
UID:69eb163c03a1e
DTSTAMP:20260424T070532Z
DTSTART:20250915T093000Z
DTEND:20250915T110000Z
LOCATION:
SUMMARY:FS/CST - Point d'étape - Sécurisation du site de L'IDEF
DESCRIPTION:FS/CST - Point d'étape - Sécurisation du site de L'IDEF\nhttp
 s://www.cftcmetropoledelyon.fr/events/fs-cst-point-detape-securisation-du-s
 ite-de-lidef/
URL:https://www.cftcmetropoledelyon.fr/events/fs-cst-point-detape-securisation-du-site-de-lidef/
END:VEVENT
END:VCALENDAR