BEGIN:VCALENDAR
VERSION:2.0
PRODID:-//eventon.com NONSGML v1.0//EN
CALSCALE:GREGORIAN
METHOD:PUBLISH
BEGIN:VEVENT
UID:69eb16312ea73
DTSTAMP:20260424T070521Z
DTSTART:20250919
DTEND:20250920
LOCATION:
SUMMARY:Conseil Syndical
DESCRIPTION:Conseil Syndical\nhttps://www.cftcmetropoledelyon.fr/events/con
 seil-syndical-11/
URL:https://www.cftcmetropoledelyon.fr/events/conseil-syndical-11/
END:VEVENT
END:VCALENDAR