BEGIN:VCALENDAR
VERSION:2.0
PRODID:-//eventon.com NONSGML v1.0//EN
CALSCALE:GREGORIAN
METHOD:PUBLISH
BEGIN:VEVENT
UID:69eb161535699
DTSTAMP:20260424T070453Z
DTSTART:20251002T090000Z
DTEND:20251002T110000Z
LOCATION:
SUMMARY:FS/CST - Point sur l'avancement de grade 2025
DESCRIPTION:FS/CST - Point sur l'avancement de grade 2025\nhttps://www.cftc
 metropoledelyon.fr/events/fs-cst-point-sur-lavancement-de-grade-2025/
URL:https://www.cftcmetropoledelyon.fr/events/fs-cst-point-sur-lavancement-de-grade-2025/
END:VEVENT
END:VCALENDAR