BEGIN:VCALENDAR
VERSION:2.0
PRODID:-//eventon.com NONSGML v1.0//EN
CALSCALE:GREGORIAN
METHOD:PUBLISH
BEGIN:VEVENT
UID:69eb162dc84ae
DTSTAMP:20260424T070517Z
DTSTART:20250905T080000Z
DTEND:20250905T090000Z
LOCATION:
SUMMARY:RV - Rendez-vous Catherine DAVID
DESCRIPTION:RV - Rendez-vous Catherine DAVID\nhttps://www.cftcmetropoledely
 on.fr/events/rv-rendez-vous-catherine-david/
URL:https://www.cftcmetropoledelyon.fr/events/rv-rendez-vous-catherine-david/
END:VEVENT
END:VCALENDAR