BEGIN:VCALENDAR
VERSION:2.0
PRODID:-//eventon.com NONSGML v1.0//EN
CALSCALE:GREGORIAN
METHOD:PUBLISH
BEGIN:VEVENT
UID:69eb163b2ee52
DTSTAMP:20260424T070531Z
DTSTART:20250822
DTEND:20250823
LOCATION:
SUMMARY:Formation G3 - AT/AM Propreté
DESCRIPTION:Formation G3 - AT/AM Propreté\nhttps://www.cftcmetropoledelyon
 .fr/events/formation-groupe-at-am-proprete/var/event_access
URL:https://www.cftcmetropoledelyon.fr/events/formation-groupe-at-am-proprete/var/event_access
END:VEVENT
END:VCALENDAR