BEGIN:VCALENDAR
VERSION:2.0
PRODID:-//eventon.com NONSGML v1.0//EN
CALSCALE:GREGORIAN
METHOD:PUBLISH
BEGIN:VEVENT
UID:69eb15b65b754
DTSTAMP:20260424T070318Z
DTSTART:20250905
DTEND:20250906
LOCATION:
SUMMARY:Formation G3 AT/AM Propreté
DESCRIPTION:Formation G3 AT/AM Propreté\nhttps://www.cftcmetropoledelyon.f
 r/events/formation-groupe-g2-at-am-proprete/var/event_access
URL:https://www.cftcmetropoledelyon.fr/events/formation-groupe-g2-at-am-proprete/var/event_access
END:VEVENT
END:VCALENDAR