BEGIN:VCALENDAR
VERSION:2.0
PRODID:-//eventon.com NONSGML v1.0//EN
CALSCALE:GREGORIAN
METHOD:PUBLISH
BEGIN:VEVENT
UID:69eb163baa35e
DTSTAMP:20260424T070531Z
DTSTART:20251003
DTEND:20251004
LOCATION:
SUMMARY:Formation G3 AT/AM Propreté
DESCRIPTION:Formation G3 AT/AM Propreté\nhttps://www.cftcmetropoledelyon.f
 r/events/formation-groupe-g2-at-am-proprete-2/var/event_access
URL:https://www.cftcmetropoledelyon.fr/events/formation-groupe-g2-at-am-proprete-2/var/event_access
END:VEVENT
END:VCALENDAR