BEGIN:VCALENDAR
VERSION:2.0
PRODID:-//eventon.com NONSGML v1.0//EN
CALSCALE:GREGORIAN
METHOD:PUBLISH
BEGIN:VEVENT
UID:69eb16185d16c
DTSTAMP:20260424T070456Z
DTSTART:20251226
DTEND:20251227
LOCATION:
SUMMARY:Formation G3 AT/AM Propreté
DESCRIPTION:Formation G3 AT/AM Propreté\nhttps://www.cftcmetropoledelyon.f
 r/events/formation-groupe-g2-at-am-proprete-copy-2/var/event_access
URL:https://www.cftcmetropoledelyon.fr/events/formation-groupe-g2-at-am-proprete-copy-2/var/event_access
END:VEVENT
END:VCALENDAR