BEGIN:VCALENDAR
VERSION:2.0
PRODID:-//eventon.com NONSGML v1.0//EN
CALSCALE:GREGORIAN
METHOD:PUBLISH
BEGIN:VEVENT
UID:69eb15b628739
DTSTAMP:20260424T070318Z
DTSTART:20251113
DTEND:20251114
LOCATION:
SUMMARY:Formation G7 - DSHE
DESCRIPTION:Formation G7 - DSHE\nhttps://www.cftcmetropoledelyon.fr/events/
 formation-g6-dshe-3/var/event_access
URL:https://www.cftcmetropoledelyon.fr/events/formation-g6-dshe-3/var/event_access
END:VEVENT
END:VCALENDAR