BEGIN:VCALENDAR
VERSION:2.0
PRODID:-//eventon.com NONSGML v1.0//EN
CALSCALE:GREGORIAN
METHOD:PUBLISH
BEGIN:VEVENT
UID:69eb15c42d7ef
DTSTAMP:20260424T070332Z
DTSTART:20251211
DTEND:20251212
LOCATION:
SUMMARY:Formation G7 - DSHE
DESCRIPTION:Formation G7 - DSHE\nhttps://www.cftcmetropoledelyon.fr/events/
 formation-g6-dshe-copy-2/var/event_access
URL:https://www.cftcmetropoledelyon.fr/events/formation-g6-dshe-copy-2/var/event_access
END:VEVENT
END:VCALENDAR