BEGIN:VCALENDAR
VERSION:2.0
PRODID:-//eventon.com NONSGML v1.0//EN
CALSCALE:GREGORIAN
METHOD:PUBLISH
BEGIN:VEVENT
UID:69eb15de8e0c7
DTSTAMP:20260424T070358Z
DTSTART:20250912
DTEND:20250913
LOCATION:
SUMMARY:Formation G1 - AT Propreté
DESCRIPTION:Formation G1 - AT Propreté\nhttps://www.cftcmetropoledelyon.fr
 /events/formation-g1-at-proprete/var/event_access
URL:https://www.cftcmetropoledelyon.fr/events/formation-g1-at-proprete/var/event_access
END:VEVENT
END:VCALENDAR