BEGIN:VCALENDAR
VERSION:2.0
PRODID:-//eventon.com NONSGML v1.0//EN
CALSCALE:GREGORIAN
METHOD:PUBLISH
BEGIN:VEVENT
UID:69eb15c229ace
DTSTAMP:20260424T070330Z
DTSTART:20251024
DTEND:20251025
LOCATION:
SUMMARY:Formation G1 - AT Propreté
DESCRIPTION:Formation G1 - AT Propreté\nhttps://www.cftcmetropoledelyon.fr
 /events/formation-g1-at-proprete-2/var/event_access
URL:https://www.cftcmetropoledelyon.fr/events/formation-g1-at-proprete-2/var/event_access
END:VEVENT
END:VCALENDAR