BEGIN:VCALENDAR
VERSION:2.0
PRODID:-//eventon.com NONSGML v1.0//EN
CALSCALE:GREGORIAN
METHOD:PUBLISH
BEGIN:VEVENT
UID:69eb15b7788a9
DTSTAMP:20260424T070319Z
DTSTART:20250822
DTEND:20250823
LOCATION:
SUMMARY:Formation G2 - AT Propreté
DESCRIPTION:Formation G2 - AT Propreté\nhttps://www.cftcmetropoledelyon.fr
 /events/formation-g2-at-proprete/var/event_access
URL:https://www.cftcmetropoledelyon.fr/events/formation-g2-at-proprete/var/event_access
END:VEVENT
END:VCALENDAR