BEGIN:VCALENDAR
VERSION:2.0
PRODID:-//eventon.com NONSGML v1.0//EN
CALSCALE:GREGORIAN
METHOD:PUBLISH
BEGIN:VEVENT
UID:69eb15b94c1db
DTSTAMP:20260424T070321Z
DTSTART:20251114
DTEND:20251115
LOCATION:
SUMMARY:Formation G2 - AT Propreté
DESCRIPTION:Formation G2 - AT Propreté\nhttps://www.cftcmetropoledelyon.fr
 /events/formation-g2-at-proprete-4/var/event_access
URL:https://www.cftcmetropoledelyon.fr/events/formation-g2-at-proprete-4/var/event_access
END:VEVENT
END:VCALENDAR