BEGIN:VCALENDAR
VERSION:2.0
PRODID:-//eventon.com NONSGML v1.0//EN
CALSCALE:GREGORIAN
METHOD:PUBLISH
BEGIN:VEVENT
UID:69eb15df8ef53
DTSTAMP:20260424T070359Z
DTSTART:20251226
DTEND:20251227
LOCATION:
SUMMARY:Formation G2 - AT Propreté
DESCRIPTION:Formation G2 - AT Propreté\nhttps://www.cftcmetropoledelyon.fr
 /events/formation-g2-at-proprete-5/var/event_access
URL:https://www.cftcmetropoledelyon.fr/events/formation-g2-at-proprete-5/var/event_access
END:VEVENT
END:VCALENDAR