BEGIN:VCALENDAR
VERSION:2.0
PRODID:-//eventon.com NONSGML v1.0//EN
CALSCALE:GREGORIAN
METHOD:PUBLISH
BEGIN:VEVENT
UID:69eb1678ec2e5
DTSTAMP:20260424T070632Z
DTSTART:20251013
DTEND:20251014
LOCATION:
SUMMARY:Formation G4 - Eau Voirie
DESCRIPTION:Formation G4 - Eau Voirie\nhttps://www.cftcmetropoledelyon.fr/e
 vents/formation-g4-eau-voirie-3/var/event_access
URL:https://www.cftcmetropoledelyon.fr/events/formation-g4-eau-voirie-3/var/event_access
END:VEVENT
END:VCALENDAR