BEGIN:VCALENDAR
VERSION:2.0
PRODID:-//eventon.com NONSGML v1.0//EN
CALSCALE:GREGORIAN
METHOD:PUBLISH
BEGIN:VEVENT
UID:69eb15b3922b1
DTSTAMP:20260424T070315Z
DTSTART:20251014
DTEND:20251015
LOCATION:
SUMMARY:Formation G5 - Eau Voirie
DESCRIPTION:Formation G5 - Eau Voirie\nhttps://www.cftcmetropoledelyon.fr/e
 vents/formation-g5-eau-voirie-3/var/event_access
URL:https://www.cftcmetropoledelyon.fr/events/formation-g5-eau-voirie-3/var/event_access
END:VEVENT
END:VCALENDAR