BEGIN:VCALENDAR
VERSION:2.0
PRODID:-//eventon.com NONSGML v1.0//EN
CALSCALE:GREGORIAN
METHOD:PUBLISH
BEGIN:VEVENT
UID:69eb15b472b93
DTSTAMP:20260424T070316Z
DTSTART:20250917
DTEND:20250918
LOCATION:
SUMMARY:Formation G6 - Eau Voirie
DESCRIPTION:Formation G6 - Eau Voirie\nhttps://www.cftcmetropoledelyon.fr/e
 vents/formation-g6-eau-voirie-2/var/event_access
URL:https://www.cftcmetropoledelyon.fr/events/formation-g6-eau-voirie-2/var/event_access
END:VEVENT
END:VCALENDAR