BEGIN:VCALENDAR
VERSION:2.0
PRODID:-//eventon.com NONSGML v1.0//EN
CALSCALE:GREGORIAN
METHOD:PUBLISH
BEGIN:VEVENT
UID:69eb15c58e8d5
DTSTAMP:20260424T070333Z
DTSTART:20251015
DTEND:20251016
LOCATION:
SUMMARY:Formation G6 - Eau Voirie
DESCRIPTION:Formation G6 - Eau Voirie\nhttps://www.cftcmetropoledelyon.fr/e
 vents/formation-g6-eau-voirie-3/var/event_access
URL:https://www.cftcmetropoledelyon.fr/events/formation-g6-eau-voirie-3/var/event_access
END:VEVENT
END:VCALENDAR