BEGIN:VCALENDAR
VERSION:2.0
PRODID:-//eventon.com NONSGML v1.0//EN
CALSCALE:GREGORIAN
METHOD:PUBLISH
BEGIN:VEVENT
UID:69eb1624e9f9a
DTSTAMP:20260424T070508Z
DTSTART:20251126
DTEND:20251127
LOCATION:
SUMMARY:Formation G6 - Eau Voirie
DESCRIPTION:Formation G6 - Eau Voirie\nhttps://www.cftcmetropoledelyon.fr/e
 vents/formation-g6-eau-voirie-4/var/event_access
URL:https://www.cftcmetropoledelyon.fr/events/formation-g6-eau-voirie-4/var/event_access
END:VEVENT
END:VCALENDAR