BEGIN:VCALENDAR
VERSION:2.0
PRODID:-//eventon.com NONSGML v1.0//EN
CALSCALE:GREGORIAN
METHOD:PUBLISH
BEGIN:VEVENT
UID:69eb1616b7d10
DTSTAMP:20260424T070454Z
DTSTART:20251210
DTEND:20251211
LOCATION:
SUMMARY:Formation G6 - Eau Voirie
DESCRIPTION:Formation G6 - Eau Voirie\nhttps://www.cftcmetropoledelyon.fr/e
 vents/formation-g6-eau-voirie-5/var/event_access
URL:https://www.cftcmetropoledelyon.fr/events/formation-g6-eau-voirie-5/var/event_access
END:VEVENT
END:VCALENDAR