BEGIN:VCALENDAR
VERSION:2.0
PRODID:-//eventon.com NONSGML v1.0//EN
CALSCALE:GREGORIAN
METHOD:PUBLISH
BEGIN:VEVENT
UID:69eb16781a72a
DTSTAMP:20260424T070632Z
DTSTART:20251017
DTEND:20251018
LOCATION:
SUMMARY:Conseil Syndical
DESCRIPTION:Conseil Syndical\nhttps://www.cftcmetropoledelyon.fr/events/con
 seil-syndical-12/
URL:https://www.cftcmetropoledelyon.fr/events/conseil-syndical-12/
END:VEVENT
END:VCALENDAR