BEGIN:VCALENDAR
VERSION:2.0
PRODID:-//eventon.com NONSGML v1.0//EN
CALSCALE:GREGORIAN
METHOD:PUBLISH
BEGIN:VEVENT
UID:69eb15b9acb65
DTSTAMP:20260424T070321Z
DTSTART:20251128
DTEND:20251129
LOCATION:
SUMMARY:Conseil Syndical
DESCRIPTION:Conseil Syndical\nhttps://www.cftcmetropoledelyon.fr/events/con
 seil-syndical-13/
URL:https://www.cftcmetropoledelyon.fr/events/conseil-syndical-13/
END:VEVENT
END:VCALENDAR