BEGIN:VCALENDAR
VERSION:2.0
PRODID:-//eventon.com NONSGML v1.0//EN
CALSCALE:GREGORIAN
METHOD:PUBLISH
BEGIN:VEVENT
UID:69eb163ce2064
DTSTAMP:20260424T070532Z
DTSTART:20251212
DTEND:20251213
LOCATION:
SUMMARY:Conseil Syndical
DESCRIPTION:Conseil Syndical\nhttps://www.cftcmetropoledelyon.fr/events/con
 seil-syndical-14/
URL:https://www.cftcmetropoledelyon.fr/events/conseil-syndical-14/
END:VEVENT
END:VCALENDAR