BEGIN:VCALENDAR
VERSION:2.0
PRODID:-//eventon.com NONSGML v1.0//EN
CALSCALE:GREGORIAN
METHOD:PUBLISH
BEGIN:VEVENT
UID:69eb15b8df595
DTSTAMP:20260424T070320Z
DTSTART:20251009T093000Z
DTEND:20251009T110000Z
LOCATION:
SUMMARY:Groupe de travail ACFI
DESCRIPTION:Groupe de travail ACFI\nhttps://www.cftcmetropoledelyon.fr/even
 ts/groupe-de-travail-acfi/
URL:https://www.cftcmetropoledelyon.fr/events/groupe-de-travail-acfi/
END:VEVENT
END:VCALENDAR