BEGIN:VCALENDAR
VERSION:2.0
PRODID:-//eventon.com NONSGML v1.0//EN
CALSCALE:GREGORIAN
METHOD:PUBLISH
BEGIN:VEVENT
UID:69eb15c261d7f
DTSTAMP:20260424T070330Z
DTSTART:20251014T090000Z
DTEND:20251014T103000Z
LOCATION:
SUMMARY:Groupe de travail élections professionnelles 2026 n°3
DESCRIPTION:Groupe de travail élections professionnelles 2026 n°3\nhttps:
 //www.cftcmetropoledelyon.fr/events/groupe-de-travail-elections-professionn
 elles-2026-n3/
URL:https://www.cftcmetropoledelyon.fr/events/groupe-de-travail-elections-professionnelles-2026-n3/
END:VEVENT
END:VCALENDAR