BEGIN:VCALENDAR
VERSION:2.0
PRODID:-//eventon.com NONSGML v1.0//EN
CALSCALE:GREGORIAN
METHOD:PUBLISH
BEGIN:VEVENT
UID:69eb163098351
DTSTAMP:20260424T070520Z
DTSTART:20251014T153000Z
DTEND:20251014T173000Z
LOCATION:
SUMMARY:Pré-CST -Réorganisation de l'encadrement du service parc et jardins
DESCRIPTION:Pré-CST -Réorganisation de l'encadrement du service parc et j
 ardins\nhttps://www.cftcmetropoledelyon.fr/events/pre-cst-reorganisation-de
 -lencadrement-du-service-parc-et-jardins/
URL:https://www.cftcmetropoledelyon.fr/events/pre-cst-reorganisation-de-lencadrement-du-service-parc-et-jardins/
END:VEVENT
END:VCALENDAR