BEGIN:VCALENDAR
VERSION:2.0
PRODID:-//eventon.com NONSGML v1.0//EN
CALSCALE:GREGORIAN
METHOD:PUBLISH
BEGIN:VEVENT
UID:69eb15e05b0ad
DTSTAMP:20260424T070400Z
DTSTART:20251113T090000Z
DTEND:20251113T110000Z
LOCATION:
SUMMARY:GT Conditions climatiques extrêmes
DESCRIPTION:GT Conditions climatiques extrêmes\nhttps://www.cftcmetropoled
 elyon.fr/events/gt-conditions-climatiques-extremes/
URL:https://www.cftcmetropoledelyon.fr/events/gt-conditions-climatiques-extremes/
END:VEVENT
END:VCALENDAR