BEGIN:VCALENDAR
VERSION:2.0
PRODID:-//eventon.com NONSGML v1.0//EN
CALSCALE:GREGORIAN
METHOD:PUBLISH
BEGIN:VEVENT
UID:69eb161536ee4
DTSTAMP:20260424T070453Z
DTSTART:20260213
DTEND:20260214
LOCATION:
SUMMARY:Formation G1 - AT Propreté
DESCRIPTION:Formation G1 - AT Propreté\nhttps://www.cftcmetropoledelyon.fr
 /events/formation-g1-at-proprete-5/var/event_access
URL:https://www.cftcmetropoledelyon.fr/events/formation-g1-at-proprete-5/var/event_access
END:VEVENT
END:VCALENDAR